BEGIN:VCALENDAR
VERSION:2.0
PRODID:-//Tynaarlo Dorp - ECPv6.15.20//NONSGML v1.0//EN
CALSCALE:GREGORIAN
METHOD:PUBLISH
X-ORIGINAL-URL:https://www.tynaarlo-dorp.nl
X-WR-CALDESC:Evenementen voor Tynaarlo Dorp
REFRESH-INTERVAL;VALUE=DURATION:PT1H
X-Robots-Tag:noindex
X-PUBLISHED-TTL:PT1H
BEGIN:VTIMEZONE
TZID:Europe/Amsterdam
BEGIN:DAYLIGHT
TZOFFSETFROM:+0100
TZOFFSETTO:+0200
TZNAME:CEST
DTSTART:20230326T010000
END:DAYLIGHT
BEGIN:STANDARD
TZOFFSETFROM:+0200
TZOFFSETTO:+0100
TZNAME:CET
DTSTART:20231029T010000
END:STANDARD
BEGIN:DAYLIGHT
TZOFFSETFROM:+0100
TZOFFSETTO:+0200
TZNAME:CEST
DTSTART:20240331T010000
END:DAYLIGHT
BEGIN:STANDARD
TZOFFSETFROM:+0200
TZOFFSETTO:+0100
TZNAME:CET
DTSTART:20241027T010000
END:STANDARD
BEGIN:DAYLIGHT
TZOFFSETFROM:+0100
TZOFFSETTO:+0200
TZNAME:CEST
DTSTART:20250330T010000
END:DAYLIGHT
BEGIN:STANDARD
TZOFFSETFROM:+0200
TZOFFSETTO:+0100
TZNAME:CET
DTSTART:20251026T010000
END:STANDARD
END:VTIMEZONE
BEGIN:VEVENT
DTSTART;TZID=Europe/Amsterdam:20240405T190000
DTEND;TZID=Europe/Amsterdam:20240405T220000
DTSTAMP:20260420T031020
CREATED:20240206T210040Z
LAST-MODIFIED:20240206T210041Z
UID:2996-1712343600-1712354400@www.tynaarlo-dorp.nl
SUMMARY:Gym-uitvoering
DESCRIPTION:
URL:https://www.tynaarlo-dorp.nl/event/gym-uitvoering/
LOCATION:Sporthal Tynaarlo\, Achterweg 6\, Tynaarlo\, 9482PJ
END:VEVENT
END:VCALENDAR