BEGIN:VCALENDAR
VERSION:2.0
PRODID:-//Tynaarlo Dorp - ECPv6.15.20//NONSGML v1.0//EN
CALSCALE:GREGORIAN
METHOD:PUBLISH
X-WR-CALNAME:Tynaarlo Dorp
X-ORIGINAL-URL:https://www.tynaarlo-dorp.nl
X-WR-CALDESC:Evenementen voor Tynaarlo Dorp
REFRESH-INTERVAL;VALUE=DURATION:PT1H
X-Robots-Tag:noindex
X-PUBLISHED-TTL:PT1H
BEGIN:VTIMEZONE
TZID:Europe/Amsterdam
BEGIN:DAYLIGHT
TZOFFSETFROM:+0100
TZOFFSETTO:+0200
TZNAME:CEST
DTSTART:20250330T010000
END:DAYLIGHT
BEGIN:STANDARD
TZOFFSETFROM:+0200
TZOFFSETTO:+0100
TZNAME:CET
DTSTART:20251026T010000
END:STANDARD
BEGIN:DAYLIGHT
TZOFFSETFROM:+0100
TZOFFSETTO:+0200
TZNAME:CEST
DTSTART:20260329T010000
END:DAYLIGHT
BEGIN:STANDARD
TZOFFSETFROM:+0200
TZOFFSETTO:+0100
TZNAME:CET
DTSTART:20261025T010000
END:STANDARD
BEGIN:DAYLIGHT
TZOFFSETFROM:+0100
TZOFFSETTO:+0200
TZNAME:CEST
DTSTART:20270328T010000
END:DAYLIGHT
BEGIN:STANDARD
TZOFFSETFROM:+0200
TZOFFSETTO:+0100
TZNAME:CET
DTSTART:20271031T010000
END:STANDARD
END:VTIMEZONE
BEGIN:VEVENT
DTSTART;TZID=Europe/Amsterdam:20260418T200000
DTEND;TZID=Europe/Amsterdam:20260418T235900
DTSTAMP:20260419T163142
CREATED:20260301T142947Z
LAST-MODIFIED:20260301T142950Z
UID:3606-1776542400-1776556740@www.tynaarlo-dorp.nl
SUMMARY:Disco Fever Feest in De Spil
DESCRIPTION:
URL:https://www.tynaarlo-dorp.nl/event/disco-fever-feest-in-de-spil/
LOCATION:De Spil\, Zuidlaarderweg 1\, Tynaarlo\, 9482 TV\, Nederland
END:VEVENT
END:VCALENDAR