BEGIN:VCALENDAR
VERSION:2.0
PRODID:-//Tynaarlo Dorp - ECPv6.15.20//NONSGML v1.0//EN
CALSCALE:GREGORIAN
METHOD:PUBLISH
X-ORIGINAL-URL:https://www.tynaarlo-dorp.nl
X-WR-CALDESC:Evenementen voor Tynaarlo Dorp
REFRESH-INTERVAL;VALUE=DURATION:PT1H
X-Robots-Tag:noindex
X-PUBLISHED-TTL:PT1H
BEGIN:VTIMEZONE
TZID:Europe/Amsterdam
BEGIN:DAYLIGHT
TZOFFSETFROM:+0100
TZOFFSETTO:+0200
TZNAME:CEST
DTSTART:20250330T010000
END:DAYLIGHT
BEGIN:STANDARD
TZOFFSETFROM:+0200
TZOFFSETTO:+0100
TZNAME:CET
DTSTART:20251026T010000
END:STANDARD
BEGIN:DAYLIGHT
TZOFFSETFROM:+0100
TZOFFSETTO:+0200
TZNAME:CEST
DTSTART:20260329T010000
END:DAYLIGHT
BEGIN:STANDARD
TZOFFSETFROM:+0200
TZOFFSETTO:+0100
TZNAME:CET
DTSTART:20261025T010000
END:STANDARD
BEGIN:DAYLIGHT
TZOFFSETFROM:+0100
TZOFFSETTO:+0200
TZNAME:CEST
DTSTART:20270328T010000
END:DAYLIGHT
BEGIN:STANDARD
TZOFFSETFROM:+0200
TZOFFSETTO:+0100
TZNAME:CET
DTSTART:20271031T010000
END:STANDARD
END:VTIMEZONE
BEGIN:VEVENT
DTSTART;TZID=Europe/Amsterdam:20260521T170000
DTEND;TZID=Europe/Amsterdam:20260521T210000
DTSTAMP:20260420T004231
CREATED:20260209T183233Z
LAST-MODIFIED:20260209T183254Z
UID:3590-1779382800-1779397200@www.tynaarlo-dorp.nl
SUMMARY:Inzameling oud papier
DESCRIPTION:Inzameling oud papier in
URL:https://www.tynaarlo-dorp.nl/event/inzameling-oud-papier-3/
END:VEVENT
BEGIN:VEVENT
DTSTART;TZID=Europe/Amsterdam:20260625T170000
DTEND;TZID=Europe/Amsterdam:20260625T210000
DTSTAMP:20260420T004231
CREATED:20260209T183328Z
LAST-MODIFIED:20260209T183355Z
UID:3592-1782406800-1782421200@www.tynaarlo-dorp.nl
SUMMARY:Inzameling oud papier
DESCRIPTION:Inzameling oud papier in
URL:https://www.tynaarlo-dorp.nl/event/inzameling-oud-papier-4/
END:VEVENT
BEGIN:VEVENT
DTSTART;TZID=Europe/Amsterdam:20260903T170000
DTEND;TZID=Europe/Amsterdam:20260903T210000
DTSTAMP:20260420T004231
CREATED:20260209T183423Z
LAST-MODIFIED:20260209T183446Z
UID:3594-1788454800-1788469200@www.tynaarlo-dorp.nl
SUMMARY:Inzameling oud papier
DESCRIPTION:Inzameling oud papier in
URL:https://www.tynaarlo-dorp.nl/event/inzameling-oud-papier-5/
END:VEVENT
BEGIN:VEVENT
DTSTART;TZID=Europe/Amsterdam:20261105T170000
DTEND;TZID=Europe/Amsterdam:20261105T210000
DTSTAMP:20260420T004231
CREATED:20260209T183518Z
LAST-MODIFIED:20260209T183540Z
UID:3596-1793898000-1793912400@www.tynaarlo-dorp.nl
SUMMARY:Inzameling oud papier
DESCRIPTION:Inzameling oud papier in
URL:https://www.tynaarlo-dorp.nl/event/inzameling-oud-papier-6/
END:VEVENT
BEGIN:VEVENT
DTSTART;TZID=Europe/Amsterdam:20261210T170000
DTEND;TZID=Europe/Amsterdam:20261210T210000
DTSTAMP:20260420T004231
CREATED:20260209T183618Z
LAST-MODIFIED:20260209T183640Z
UID:3598-1796922000-1796936400@www.tynaarlo-dorp.nl
SUMMARY:Inzameling oud papier
DESCRIPTION:Inzameling oud papier in
URL:https://www.tynaarlo-dorp.nl/event/inzameling-oud-papier-7/
END:VEVENT
END:VCALENDAR