BEGIN:VCALENDAR
VERSION:2.0
PRODID:-//Tynaarlo Dorp - ECPv6.15.20//NONSGML v1.0//EN
CALSCALE:GREGORIAN
METHOD:PUBLISH
X-WR-CALNAME:Tynaarlo Dorp
X-ORIGINAL-URL:https://www.tynaarlo-dorp.nl
X-WR-CALDESC:Evenementen voor Tynaarlo Dorp
REFRESH-INTERVAL;VALUE=DURATION:PT1H
X-Robots-Tag:noindex
X-PUBLISHED-TTL:PT1H
BEGIN:VTIMEZONE
TZID:Europe/Amsterdam
BEGIN:DAYLIGHT
TZOFFSETFROM:+0100
TZOFFSETTO:+0200
TZNAME:CEST
DTSTART:20220327T010000
END:DAYLIGHT
BEGIN:STANDARD
TZOFFSETFROM:+0200
TZOFFSETTO:+0100
TZNAME:CET
DTSTART:20221030T010000
END:STANDARD
BEGIN:DAYLIGHT
TZOFFSETFROM:+0100
TZOFFSETTO:+0200
TZNAME:CEST
DTSTART:20230326T010000
END:DAYLIGHT
BEGIN:STANDARD
TZOFFSETFROM:+0200
TZOFFSETTO:+0100
TZNAME:CET
DTSTART:20231029T010000
END:STANDARD
BEGIN:DAYLIGHT
TZOFFSETFROM:+0100
TZOFFSETTO:+0200
TZNAME:CEST
DTSTART:20240331T010000
END:DAYLIGHT
BEGIN:STANDARD
TZOFFSETFROM:+0200
TZOFFSETTO:+0100
TZNAME:CET
DTSTART:20241027T010000
END:STANDARD
END:VTIMEZONE
BEGIN:VEVENT
DTSTART;TZID=Europe/Amsterdam:20230907T170000
DTEND;TZID=Europe/Amsterdam:20230907T210000
DTSTAMP:20260422T123645
CREATED:20221127T162322Z
LAST-MODIFIED:20221127T162346Z
UID:2717-1694106000-1694120400@www.tynaarlo-dorp.nl
SUMMARY:Inzameling oud papier
DESCRIPTION:Inzameling oud papier in
URL:https://www.tynaarlo-dorp.nl/event/inzameling-oud-papier-copy-3-copy-copy-copy-copy/
END:VEVENT
BEGIN:VEVENT
DTSTART;TZID=Europe/Amsterdam:20230924T080000
DTEND;TZID=Europe/Amsterdam:20230924T170000
DTSTAMP:20260422T123645
CREATED:20230525T160944Z
LAST-MODIFIED:20230525T160945Z
UID:2907-1695542400-1695574800@www.tynaarlo-dorp.nl
SUMMARY:EK Wielrennen door Tynaarlo
DESCRIPTION:
URL:https://www.tynaarlo-dorp.nl/event/ek-wielrennen-door-tynaarlo/
ATTACH;FMTTYPE=image/jpeg:https://www.tynaarlo-dorp.nl/new/wp-content/uploads/2023/05/349152222_1974184306286705_2644716124450663076_n.jpg
END:VEVENT
END:VCALENDAR