BEGIN:VCALENDAR
VERSION:2.0
PRODID:-//Tynaarlo Dorp - ECPv6.15.20//NONSGML v1.0//EN
CALSCALE:GREGORIAN
METHOD:PUBLISH
X-WR-CALNAME:Tynaarlo Dorp
X-ORIGINAL-URL:https://www.tynaarlo-dorp.nl
X-WR-CALDESC:Evenementen voor Tynaarlo Dorp
REFRESH-INTERVAL;VALUE=DURATION:PT1H
X-Robots-Tag:noindex
X-PUBLISHED-TTL:PT1H
BEGIN:VTIMEZONE
TZID:Europe/Amsterdam
BEGIN:DAYLIGHT
TZOFFSETFROM:+0100
TZOFFSETTO:+0200
TZNAME:CEST
DTSTART:20220327T010000
END:DAYLIGHT
BEGIN:STANDARD
TZOFFSETFROM:+0200
TZOFFSETTO:+0100
TZNAME:CET
DTSTART:20221030T010000
END:STANDARD
BEGIN:DAYLIGHT
TZOFFSETFROM:+0100
TZOFFSETTO:+0200
TZNAME:CEST
DTSTART:20230326T010000
END:DAYLIGHT
BEGIN:STANDARD
TZOFFSETFROM:+0200
TZOFFSETTO:+0100
TZNAME:CET
DTSTART:20231029T010000
END:STANDARD
BEGIN:DAYLIGHT
TZOFFSETFROM:+0100
TZOFFSETTO:+0200
TZNAME:CEST
DTSTART:20240331T010000
END:DAYLIGHT
BEGIN:STANDARD
TZOFFSETFROM:+0200
TZOFFSETTO:+0100
TZNAME:CET
DTSTART:20241027T010000
END:STANDARD
END:VTIMEZONE
BEGIN:VEVENT
DTSTART;TZID=Europe/Amsterdam:20231214T170000
DTEND;TZID=Europe/Amsterdam:20231214T210000
DTSTAMP:20260420T093041
CREATED:20221127T162428Z
LAST-MODIFIED:20221127T162519Z
UID:2721-1702573200-1702587600@www.tynaarlo-dorp.nl
SUMMARY:Inzameling oud papier
DESCRIPTION:Inzameling oud papier in
URL:https://www.tynaarlo-dorp.nl/event/inzameling-oud-papier-copy-3-copy-copy-copy-copy-copy-copy/
END:VEVENT
BEGIN:VEVENT
DTSTART;TZID=Europe/Amsterdam:20231231T000000
DTEND;TZID=Europe/Amsterdam:20231231T235959
DTSTAMP:20260420T093041
CREATED:20231107T172758Z
LAST-MODIFIED:20231107T173634Z
UID:2929-1703980800-1704067199@www.tynaarlo-dorp.nl
SUMMARY:Oliebollenactie
DESCRIPTION:
URL:https://www.tynaarlo-dorp.nl/event/oliebollenactie/
LOCATION:Grand Café Centraal\, Dorpsstraat 8\, Tynaarlo
ORGANIZER;CN="VvV Tynaarlo":MAILTO:vvv@tynaarlo-dorp.nl
END:VEVENT
END:VCALENDAR